BEGIN:VCALENDAR
VERSION:2.0
PRODID:spatie/icalendar-generator
DESCRIPTION:Events from Wolff Vineyards
X-WR-CALDESC:Events from Wolff Vineyards
REFRESH-INTERVAL;VALUE=DURATION:PT1440M
X-PUBLISHED-TTL:PT1440M
BEGIN:VTIMEZONE
TZID:America/Los_Angeles
BEGIN:STANDARD
DTSTART:20191103T020000Z
TZOFFSETFROM:-0700
TZOFFSETTO:-0800
END:STANDARD
BEGIN:DAYLIGHT
DTSTART:20200308T020000Z
TZOFFSETFROM:-0800
TZOFFSETTO:-0700
END:DAYLIGHT
END:VTIMEZONE
BEGIN:VTIMEZONE
TZID:UTC
BEGIN:STANDARD
DTSTART:20250724T092936Z
TZOFFSETFROM:+0000
TZOFFSETTO:+0000
END:STANDARD
END:VTIMEZONE
BEGIN:VEVENT
UID:17-6
DTSTAMP:20260420T092936Z
SUMMARY:Small Farm Conference
LOCATION:Offsite
ORGANIZER;CN=JMarshall:MAILTO:jo@fremontwebsolutions.com
DTSTART;TZID=America/Los_Angeles:20200227T090000
DTEND;TZID=America/Los_Angeles:20200227T110000
X-ALT-DESC;FMTTYPE=TEXT/HTML:Wolff Vineyards Owner and Vintner Jean-Pierre 
 Wolff will speak at the Small Farm Conference held at Tablas Creek Vineyar
 d in Paso Robles
CATEGORIES:General
URL;VALUE=URI:https://wolffvineyards.com/mc-events/small-farm-conference/
METHOD:PUBLISH
END:VEVENT
END:VCALENDAR